BEGIN:VCALENDAR
VERSION:2.0
PRODID:-//Church of Discovery - ECPv6.15.10//NONSGML v1.0//EN
CALSCALE:GREGORIAN
METHOD:PUBLISH
X-WR-CALNAME:Church of Discovery
X-ORIGINAL-URL:https://churchofdiscovery.net
X-WR-CALDESC:Events for Church of Discovery
REFRESH-INTERVAL;VALUE=DURATION:PT1H
X-Robots-Tag:noindex
X-PUBLISHED-TTL:PT1H
BEGIN:VTIMEZONE
TZID:UTC
BEGIN:STANDARD
TZOFFSETFROM:+0000
TZOFFSETTO:+0000
TZNAME:UTC
DTSTART:20200101T000000
END:STANDARD
END:VTIMEZONE
BEGIN:VEVENT
DTSTART;TZID=UTC:20240407T113000
DTEND;TZID=UTC:20240407T120000
DTSTAMP:20260423T182200
CREATED:20240319T194432Z
LAST-MODIFIED:20240319T194432Z
UID:2139-1712489400-1712491200@churchofdiscovery.net
SUMMARY:Silent Auction Going Loud
DESCRIPTION:Please join us Sunday\, April 7 after service (around 11:30 a.m.) to find out about this fundraiser to raise the funds necessary to paint the interior of our building.  🙂
URL:https://churchofdiscovery.net/event/silent-auction-going-loud/
LOCATION:Church of Discovery\, 8426 E 48 Rd\, Cadillac\, MI\, 49601\, United States
END:VEVENT
BEGIN:VEVENT
DTSTART;TZID=UTC:20240329T190000
DTEND;TZID=UTC:20240329T200000
DTSTAMP:20260423T182200
CREATED:20240319T195245Z
LAST-MODIFIED:20240319T195245Z
UID:2149-1711738800-1711742400@churchofdiscovery.net
SUMMARY:Community Good Friday Service
DESCRIPTION:Good Friday the community churches in Cadillac will gather together for a service at United Methodist Church on M-55 at 7 p.m.  Please come early to get a seat!  This service is brought to you by Cadillac Area Ministerial Association (CAMA). \n \n 
URL:https://churchofdiscovery.net/event/community-good-friday-service/
END:VEVENT
BEGIN:VEVENT
DTSTART;TZID=UTC:20240324T113000
DTEND;TZID=UTC:20240324T120000
DTSTAMP:20260423T182200
CREATED:20240319T194904Z
LAST-MODIFIED:20240319T200519Z
UID:2146-1711279800-1711281600@churchofdiscovery.net
SUMMARY:Filling Easter Eggs for Easter Egg Hunt
DESCRIPTION:Plan to stay after service on Sunday\, March 24\, so we can fill Easter eggs for the easter egg hunt on Easter Sunday.  If you can\, please bring in a donation of candy.
URL:https://churchofdiscovery.net/event/filling-easter-eggs-for-easter-egg-hunt/
END:VEVENT
BEGIN:VEVENT
DTSTART;TZID=UTC:20240324T103000
DTEND;TZID=UTC:20240324T113000
DTSTAMP:20260423T182200
CREATED:20240319T194720Z
LAST-MODIFIED:20240319T194720Z
UID:2142-1711276200-1711279800@churchofdiscovery.net
SUMMARY:Olivet Nazarene Music Ambassador Matthew Bair
DESCRIPTION:Sunday\, March 24 at 10:30 a.m.\, please help us welcome Matthew Bair as he shares his musical talents with us during service.  We will be taking a love offering for Matthew.
URL:https://churchofdiscovery.net/event/olivet-nazarene-music-ambassador-matthew-bair/
END:VEVENT
BEGIN:VEVENT
DTSTART;TZID=UTC:20240321T183000
DTEND;TZID=UTC:20240321T190000
DTSTAMP:20260423T182200
CREATED:20240319T194057Z
LAST-MODIFIED:20240319T194057Z
UID:2136-1711045800-1711047600@churchofdiscovery.net
SUMMARY:Zoom Prayer Meeting
DESCRIPTION:Please join us each Thursday at 6:30 p.m. via Zoom for prayer.  Please contact Pastor for Zoom info.   
URL:https://churchofdiscovery.net/event/zoom-prayer-meeting/
LOCATION:Zoom
ORGANIZER;CN="Maureen Jones":MAILTO:mkjones041393@gmail.com
END:VEVENT
BEGIN:VEVENT
DTSTART;TZID=UTC:20240122T120000
DTEND;TZID=UTC:20240122T130000
DTSTAMP:20260423T182200
CREATED:20240101T204302Z
LAST-MODIFIED:20240101T204440Z
UID:2132-1705924800-1705928400@churchofdiscovery.net
SUMMARY:Soup Potluck
DESCRIPTION:All are welcome to join us for our second annual soup potluck on Sunday\, January 21\, 2024 after worship service.  Please bring your favorite soup and extra containers to bring soup home!
URL:https://churchofdiscovery.net/event/soup-potluck/
END:VEVENT
BEGIN:VEVENT
DTSTART;TZID=UTC:20231013T150000
DTEND;TZID=UTC:20231014T130000
DTSTAMP:20260423T182200
CREATED:20230711T201926Z
LAST-MODIFIED:20230711T201926Z
UID:2100-1697209200-1697288400@churchofdiscovery.net
SUMMARY:LADIES!!!  SAVE THE DATE!!!
DESCRIPTION:Northern Michigan District Women’s Retreat beginning Friday\, October 13 to Saturday\, October 14.  
URL:https://churchofdiscovery.net/event/ladies-save-the-date/
LOCATION:Cherry Grove Church of the Nazarene\, 8450 S. 29 Road\, Cadillac\, Michigan\, 49601
END:VEVENT
BEGIN:VEVENT
DTSTART;TZID=UTC:20230908T090000
DTEND;TZID=UTC:20230909T130000
DTSTAMP:20260423T182200
CREATED:20230822T185807Z
LAST-MODIFIED:20230822T185807Z
UID:2104-1694163600-1694264400@churchofdiscovery.net
SUMMARY:Indoor Yard and Bake Sale!!!
DESCRIPTION:Lots of treasures\, including household items\, books\, clothing\, decor\, small appliances\, and of course\, yummy home baked goods! \nAll priced to sell! \nProceeds go toward a new air conditioner for the church!  We are almost there! 
URL:https://churchofdiscovery.net/event/indoor-yard-and-bake-sale/
LOCATION:Church of Discovery\, 8426 E 48 Rd\, Cadillac\, MI\, 49601\, United States
END:VEVENT
BEGIN:VEVENT
DTSTART;TZID=UTC:20230819T150000
DTEND;TZID=UTC:20230820T130000
DTSTAMP:20260423T182200
CREATED:20230711T201704Z
LAST-MODIFIED:20230711T201704Z
UID:2097-1692457200-1692536400@churchofdiscovery.net
SUMMARY:Second Annual Church of Discovery Family Camp
DESCRIPTION:The family fun begins around 4 p.m. on Saturday\, August 19\, 2023.  You can set up camp anytime on August 19\, 2023. \nThere is an option to camp overnight\, however\, it is not a requirement. \nDinner on Saturday will be at 5:00 p.m. (ish).  Burgers and hot dogs provided.  Please bring a dish to pass. \nPlease bring any and all outdoor games in your possession! \nDinner\, games\, and smores at dusk! \nCan’t wait to see you there! \n  \nBeautiful bonfire with burning firewood in forest. Space for text
URL:https://churchofdiscovery.net/event/second-annual-church-of-discovery-family-camp/
LOCATION:Church of Discovery\, 8426 E 48 Rd\, Cadillac\, MI\, 49601\, United States
END:VEVENT
BEGIN:VEVENT
DTSTART;TZID=UTC:20230725T180000
DTEND;TZID=UTC:20230725T200000
DTSTAMP:20260423T182200
CREATED:20230711T201202Z
LAST-MODIFIED:20230711T201202Z
UID:2094-1690308000-1690315200@churchofdiscovery.net
SUMMARY:Northern Michigan District Prayer Meeting
DESCRIPTION:Please join us as we pray in unity as a District! \nWe do not want you to miss out on this opportunity to come together in His Name! \nTuesday\, July 25\, 2023 from 6 p.m. to 8 p.m.
URL:https://churchofdiscovery.net/event/northern-michigan-district-prayer-meeting/
END:VEVENT
BEGIN:VEVENT
DTSTART;TZID=UTC:20230716T123000
DTEND;TZID=UTC:20230716T170000
DTSTAMP:20260423T182200
CREATED:20230711T200859Z
LAST-MODIFIED:20230711T200859Z
UID:2092-1689510600-1689526800@churchofdiscovery.net
SUMMARY:Bowling Fundraiser for a New AC Unit!
DESCRIPTION:After Church on Sunday\, July 16\, 2023\, we will meet at the Pines.  Our bowlers have been working hard to collect pledges and donations.  It is not too late to get blessed by donating!  🙂 \nPlease contact Pastor Maureen for additional details.
URL:https://churchofdiscovery.net/event/bowling-fundraiser-for-a-new-ac-unit/
END:VEVENT
BEGIN:VEVENT
DTSTART;TZID=UTC:20230429T100000
DTEND;TZID=UTC:20230429T160000
DTSTAMP:20260423T182200
CREATED:20230425T220739Z
LAST-MODIFIED:20230425T221247Z
UID:2082-1682762400-1682784000@churchofdiscovery.net
SUMMARY:Clean Up Day!!!
DESCRIPTION:Join us Saturday\, April 29 from 10 a.m. to 4 p.m. (loose time schedule).  There will be a potluck.  We will be cleaning the inside and outside\, so whatever your specialty\, there is a place for you!  This is a come-and-go event\, so you are not required to stay all day\, just come and go as you are able.  🙂
URL:https://churchofdiscovery.net/event/clean-up-day/
END:VEVENT
BEGIN:VEVENT
DTSTART;TZID=UTC:20230114T140000
DTEND;TZID=UTC:20230114T160000
DTSTAMP:20260423T182200
CREATED:20230103T222123Z
LAST-MODIFIED:20230103T222123Z
UID:2075-1673704800-1673712000@churchofdiscovery.net
SUMMARY:Ladies Game Day with a Twist!
DESCRIPTION:Ladies!! Please join us for a fun\, come as you are\, game day from 2 pm to 4 pm at Church! This will be a fun\, stress free time together. Bring snacks if you like. 
URL:https://churchofdiscovery.net/event/ladies-game-day-with-a-twist/
LOCATION:Church of Discovery\, 8426 E 48 Rd\, Cadillac\, MI\, 49601\, United States
END:VEVENT
BEGIN:VEVENT
DTSTART;TZID=UTC:20230108T120000
DTEND;TZID=UTC:20230108T130000
DTSTAMP:20260423T182200
CREATED:20230103T222453Z
LAST-MODIFIED:20230103T222453Z
UID:2078-1673179200-1673182800@churchofdiscovery.net
SUMMARY:Lunch and Take Down Christmas Decorations
DESCRIPTION:Please plan to stay after service on Sunday\, January 8 for lunch and taking down Christmas decorations.
URL:https://churchofdiscovery.net/event/lunch-and-take-down-christmas-decorations/
END:VEVENT
BEGIN:VEVENT
DTSTART;TZID=UTC:20221202T180000
DTEND;TZID=UTC:20221202T200000
DTSTAMP:20260423T182200
CREATED:20221030T204242Z
LAST-MODIFIED:20221030T204242Z
UID:2064-1670004000-1670011200@churchofdiscovery.net
SUMMARY:Movie Night!
DESCRIPTION:All are welcome to join us for movie night!  We will be joining together to watch a Christian comedy for the entire family!  Please bring snacks to share! \n🙂
URL:https://churchofdiscovery.net/event/movie-night/
END:VEVENT
BEGIN:VEVENT
DTSTART;TZID=UTC:20221112T090000
DTEND;TZID=UTC:20221112T170000
DTSTAMP:20260423T182200
CREATED:20221030T203524Z
LAST-MODIFIED:20221030T203524Z
UID:2061-1668243600-1668272400@churchofdiscovery.net
SUMMARY:Ladies Shopping Trip!
DESCRIPTION:Church of Discovery and Kalkaska Church of the Nazarene will be traveling to Fairview for a fun day of shopping starting at Family Bookshelf.  We need a head count in advance to let the store know we are coming! \nPlease let Pastor Maureen know ASAP!
URL:https://churchofdiscovery.net/event/ladies-shopping-trip/
END:VEVENT
BEGIN:VEVENT
DTSTART;TZID=UTC:20221105T093000
DTEND;TZID=UTC:20221105T093000
DTSTAMP:20260423T182200
CREATED:20220306T015031Z
LAST-MODIFIED:20220924T144854Z
UID:2021-1667640600-1667640600@churchofdiscovery.net
SUMMARY:Divine Mentor Group
DESCRIPTION:The first Saturday of each month we will gather together to be mentored by the one true King! \nThis is a beautiful time together.  You do not want to miss this!!!
URL:https://churchofdiscovery.net/event/divine-mentor-group/
LOCATION:Church of Discovery\, 8426 E 48 Rd\, Cadillac\, MI\, 49601\, United States
ORGANIZER;CN="Maureen Jones":MAILTO:mkjones041393@gmail.com
END:VEVENT
BEGIN:VEVENT
DTSTART;TZID=UTC:20221102T180000
DTEND;TZID=UTC:20221102T190000
DTSTAMP:20260423T182200
CREATED:20220921T060048Z
LAST-MODIFIED:20221030T202813Z
UID:2053-1667412000-1667415600@churchofdiscovery.net
SUMMARY:Wednesday Night - Meal and a Message
DESCRIPTION:Please join us each Wednesday night at 6 p.m. for a light meal/fellowship and a message\, followed by discussion\, prayer\, and whatever Holy Spirit has in store for us!
URL:https://churchofdiscovery.net/event/wednesday-night-meal-and-a-message/
LOCATION:Church of Discovery\, 8426 E 48 Rd\, Cadillac\, MI\, 49601\, United States
ORGANIZER;CN="Maureen Jones":MAILTO:mkjones041393@gmail.com
END:VEVENT
BEGIN:VEVENT
DTSTART;TZID=UTC:20220506T180000
DTEND;TZID=UTC:20220506T200000
DTSTAMP:20260423T182200
CREATED:20220204T060047Z
LAST-MODIFIED:20220404T000107Z
UID:2000-1651860000-1651867200@churchofdiscovery.net
SUMMARY:Chosen Watch Party!!!
DESCRIPTION:Church of Discovery will be showing The Chosen episodes the first Friday of every month.  The next showing is on Friday\, May 6 at 6:00 p.m.  The Church will be providing a meal.  🙂
URL:https://churchofdiscovery.net/event/chosen-watch-party/
LOCATION:Church of Discovery\, 8426 E 48 Rd\, Cadillac\, MI\, 49601\, United States
END:VEVENT
BEGIN:VEVENT
DTSTART;TZID=UTC:20220429T080000
DTEND;TZID=UTC:20220502T170000
DTSTAMP:20260423T182200
CREATED:20220404T000204Z
LAST-MODIFIED:20220404T000204Z
UID:2002-1651219200-1651510800@churchofdiscovery.net
SUMMARY:Revival with Pastor Kevin Seymour!
DESCRIPTION:Pastor Kevin Seymour will be leading a Revival beginning Friday\, April 22\, 2022 and ending Sunday April 24\, 2022.  We are so excited to see the Lord move! \nAll are welcome!
URL:https://churchofdiscovery.net/event/revival-with-pastor-kevin-seymour/
LOCATION:Church of Discovery\, 8426 E 48 Rd\, Cadillac\, MI\, 49601\, United States
END:VEVENT
BEGIN:VEVENT
DTSTART;TZID=UTC:20220423T120000
DTEND;TZID=UTC:20220423T170000
DTSTAMP:20260423T182200
CREATED:20220404T001255Z
LAST-MODIFIED:20220404T001255Z
UID:2031-1650715200-1650733200@churchofdiscovery.net
SUMMARY:Spring Clean Up!
DESCRIPTION:Please join us as we spruce up the yard and the inside of the Church!  Meat will be provided!  Please plan to bring a dish to pass! \nThank you in advance for your care and love for the Church!!!
URL:https://churchofdiscovery.net/event/spring-clean-up/
LOCATION:Church of Discovery\, 8426 E 48 Rd\, Cadillac\, MI\, 49601\, United States
END:VEVENT
BEGIN:VEVENT
DTSTART;TZID=UTC:20220415T190000
DTEND;TZID=UTC:20220415T200000
DTSTAMP:20260423T182200
CREATED:20220404T000524Z
LAST-MODIFIED:20220404T001449Z
UID:2029-1650049200-1650052800@churchofdiscovery.net
SUMMARY:Good Friday Service with Cherry Grove Church of the Nazarene!
DESCRIPTION:Please join us Good Friday\, April 15 at 7 p.m. as we join with Cherry Grove Church of the Nazarene to celebrate Good Friday!
URL:https://churchofdiscovery.net/event/good-friday-service-with-cherry-grove-church-of-the-nazarene/
LOCATION:Cherry Grove Church of the Nazarene\, 8450 S. 29 Road\, Cadillac\, Michigan\, 49601
END:VEVENT
BEGIN:VEVENT
DTSTART;TZID=UTC:20220410T120000
DTEND;TZID=UTC:20220410T140000
DTSTAMP:20260423T182200
CREATED:20220404T000358Z
LAST-MODIFIED:20220404T000358Z
UID:2027-1649592000-1649599200@churchofdiscovery.net
SUMMARY:Easter Egg Candy/Filling Eggs!
DESCRIPTION:Hey Church!  We need your help!  Please bring bags of candy next Sunday to Church.  After Church\, please plan to stay to fill Easter eggs for the kids’ Easter egg hunt! \n 
URL:https://churchofdiscovery.net/event/easter-egg-candy-filling-eggs/
LOCATION:Church of Discovery\, 8426 E 48 Rd\, Cadillac\, MI\, 49601\, United States
END:VEVENT
BEGIN:VEVENT
DTSTART;TZID=UTC:20220226T180000
DTEND;TZID=UTC:20220228T130000
DTSTAMP:20260423T182200
CREATED:20220123T232535Z
LAST-MODIFIED:20220123T232535Z
UID:2012-1645898400-1646053200@churchofdiscovery.net
SUMMARY:District Sponsored NYI Winter Whiteout Event!
DESCRIPTION:Dear NYI Leaders WWO 2022 \nMed & Permission Form NYI 2022 \nWWO ROSTER \nAttached are the forms and the information received from NYI.  We are so excited for this opportunity for our youth!  If you are not able to afford this for your middle/high schooler\, please let Pastor Maureen know.  We do not want any of our youth to miss this event! \n 
URL:https://churchofdiscovery.net/event/district-sponsored-nyi-winter-whiteout-event/
LOCATION:Center Lake Bible Camp in Tustin\, 15204 20 Mile Road\, Tustin\, Michigan\, 49688
END:VEVENT
BEGIN:VEVENT
DTSTART;TZID=UTC:20220218T180000
DTEND;TZID=UTC:20220218T200000
DTSTAMP:20260423T182200
CREATED:20211228T224533Z
LAST-MODIFIED:20211228T224533Z
UID:2004-1645207200-1645214400@churchofdiscovery.net
SUMMARY:Couples Dinner Celebrating Marriage!
DESCRIPTION:Brad Russ is leading a celebration of marriage on Friday\, February 18 beginning at 6 p.m.  More details to follow.
URL:https://churchofdiscovery.net/event/couples-dinner-celebrating-marriage/
END:VEVENT
BEGIN:VEVENT
DTSTART;TZID=UTC:20220130T103000
DTEND;TZID=UTC:20220130T120000
DTSTAMP:20260423T182200
CREATED:20220123T231330Z
LAST-MODIFIED:20220123T231330Z
UID:2009-1643538600-1643544000@churchofdiscovery.net
SUMMARY:Kids Snow Fun Day!!!
DESCRIPTION:Kids!  Bring your winter clothes and sleds and outdoor fun fare!  Come have a Blast!!! 
URL:https://churchofdiscovery.net/event/kids-snow-fun-day/
LOCATION:Church of Discovery\, 8426 E 48 Rd\, Cadillac\, MI\, 49601\, United States
END:VEVENT
BEGIN:VEVENT
DTSTART;TZID=UTC:20220115T100000
DTEND;TZID=UTC:20220115T100000
DTSTAMP:20260423T182200
CREATED:20211228T223117Z
LAST-MODIFIED:20211228T224202Z
UID:1998-1642240800-1642240800@churchofdiscovery.net
SUMMARY:Laundry Outreach in Lake City!
DESCRIPTION:Church of Discovery will be at the SuperKleen Laundry facility on Saturday\, January 15\, 2022 beginning at 10 a.m. We will be providing quarters\, laundry soap\, and fabric softener. \nIf you have any questions\, please contact Pastor Maureen 231-388-4317
URL:https://churchofdiscovery.net/event/laundry-outreach-in-lake-city/
END:VEVENT
BEGIN:VEVENT
DTSTART;TZID=UTC:20211228T080000
DTEND;TZID=UTC:20220124T170000
DTSTAMP:20260423T182200
CREATED:20211228T222842Z
LAST-MODIFIED:20211228T222842Z
UID:1996-1640678400-1643043600@churchofdiscovery.net
SUMMARY:Food Boxes
DESCRIPTION:We are currently collecting specific food items for lasagna food boxes to give away at the end of January.  If you would like to donate items or if you have a need for one of the food boxes\, please contact Pastor Maureen at 231-388-4317.
URL:https://churchofdiscovery.net/event/food-boxes/
LOCATION:Church of Discovery\, 8426 E 48 Rd\, Cadillac\, MI\, 49601\, United States
ORGANIZER;CN="Maureen Jones":MAILTO:mkjones041393@gmail.com
END:VEVENT
BEGIN:VEVENT
DTSTART;TZID=UTC:20211121T120000
DTEND;TZID=UTC:20211121T150000
DTSTAMP:20260423T182200
CREATED:20211114T212827Z
LAST-MODIFIED:20211114T212827Z
UID:1934-1637496000-1637506800@churchofdiscovery.net
SUMMARY:Church Christmas Decorating!
DESCRIPTION:Church-wide Christmas decorating party after service!  Meal provided.  Bring your favorite dessert if you can.
URL:https://churchofdiscovery.net/event/church-christmas-decorating/
END:VEVENT
BEGIN:VEVENT
DTSTART;TZID=UTC:20211119T180000
DTEND;TZID=UTC:20211119T210000
DTSTAMP:20260423T182200
CREATED:20211013T001038Z
LAST-MODIFIED:20211013T002633Z
UID:1902-1637344800-1637355600@churchofdiscovery.net
SUMMARY:Movie Night!  Friday\, November 19\, 2021 at 6:00 p.m.
DESCRIPTION:Come join us for Movie Night on Friday\, November 19\, 2021 at 6:00 p.m.  Popcorn provided and bring your favorite appetizer and movie snacks! \n 
URL:https://churchofdiscovery.net/event/movie-night-friday-november-19-2021-at-600-p-m/
END:VEVENT
END:VCALENDAR